BEGIN:VCALENDAR
VERSION:2.0
PRODID:Events Booking
BEGIN:VEVENT
UID:69e9ae7cae515
SUMMARY:Fokus 2: \"Knie\" - ein osteopathischer Ansatz zum Management häuf
 iger Kniedysfunktionen
DESCRIPTION:
LOCATION:Moeringgasse 20/2. Stock/Top 7\, 1150 Wien
DTSTART:20261127T080000Z
DTEND:20261129T150000Z
DTSTAMP:20260409T094710Z
ORGANIZER;CN=WSO Kursbüro:MAILTO:seminare@wso.at
GEO:48.203627;16.334018
X-APPLE-STRUCTURED-LOCATION;VALUE=URI;X-ADDRESS=Moeringgasse 20/2. Stock/To
 p 7\, 1150 Wien;X-APPLE-RADIUS=72;X-TITLE=WSO - Wiener Schule für Osteopa
 thie:48.203627;16.334018
END:VEVENT
END:VCALENDAR